BEGIN:VCALENDAR
VERSION:2.0
PRODID:-//Golden Retriever Club of Canada - ECPv6.15.20//NONSGML v1.0//EN
CALSCALE:GREGORIAN
METHOD:PUBLISH
X-ORIGINAL-URL:https://grcc.net
X-WR-CALDESC:Events for Golden Retriever Club of Canada
REFRESH-INTERVAL;VALUE=DURATION:PT1H
X-Robots-Tag:noindex
X-PUBLISHED-TTL:PT1H
BEGIN:VTIMEZONE
TZID:America/Toronto
BEGIN:DAYLIGHT
TZOFFSETFROM:-0500
TZOFFSETTO:-0400
TZNAME:EDT
DTSTART:20250309T070000
END:DAYLIGHT
BEGIN:STANDARD
TZOFFSETFROM:-0400
TZOFFSETTO:-0500
TZNAME:EST
DTSTART:20251102T060000
END:STANDARD
BEGIN:DAYLIGHT
TZOFFSETFROM:-0500
TZOFFSETTO:-0400
TZNAME:EDT
DTSTART:20260308T070000
END:DAYLIGHT
BEGIN:STANDARD
TZOFFSETFROM:-0400
TZOFFSETTO:-0500
TZNAME:EST
DTSTART:20261101T060000
END:STANDARD
BEGIN:DAYLIGHT
TZOFFSETFROM:-0500
TZOFFSETTO:-0400
TZNAME:EDT
DTSTART:20270314T070000
END:DAYLIGHT
BEGIN:STANDARD
TZOFFSETFROM:-0400
TZOFFSETTO:-0500
TZNAME:EST
DTSTART:20271107T060000
END:STANDARD
END:VTIMEZONE
BEGIN:VEVENT
DTSTART;TZID=America/Toronto:20260721T080000
DTEND;TZID=America/Toronto:20260721T170000
DTSTAMP:20260420T012336
CREATED:20260407T165527Z
LAST-MODIFIED:20260407T170006Z
UID:212662-1784620800-1784653200@grcc.net
SUMMARY:WC Test - Langton\, Ont.
DESCRIPTION:Golden Retriever Club of Greater Toronto – WC Test\nDate: July 21\, 2026\nLocation: Wardle Property\, 934 4th Concession Rd Enr\, Langton\, Ontario N0E 1G0\n  \nEvent Type: Working Certificate (WC / WCI / WCX)\n  \nJudges:\nSandie Bond (ON)\nDavid Wardle (ON)\n  \nCombined limited entry of 15 dogs.\n  \nSecretary:\nShelly Blom\n1630 First Concession STR\, RR#3\nDelhi\, ON N4B 2W6\nPhone: 519-589-6680\nEmail: sterregoldens@icloud.com
URL:https://grcc.net/event/wc-test-langton-ont/
LOCATION:Wardle Propert\, 934 4th Concession Rd Enr\, Langton\, Ontario\, N0E 1G0\, Canada
CATEGORIES:Field
END:VEVENT
END:VCALENDAR