BEGIN:VCALENDAR
VERSION:2.0
PRODID:-//Golden Retriever Club of Canada - ECPv6.15.20//NONSGML v1.0//EN
CALSCALE:GREGORIAN
METHOD:PUBLISH
X-ORIGINAL-URL:https://grcc.net
X-WR-CALDESC:Events for Golden Retriever Club of Canada
REFRESH-INTERVAL;VALUE=DURATION:PT1H
X-Robots-Tag:noindex
X-PUBLISHED-TTL:PT1H
BEGIN:VTIMEZONE
TZID:America/Toronto
BEGIN:DAYLIGHT
TZOFFSETFROM:-0500
TZOFFSETTO:-0400
TZNAME:EDT
DTSTART:20240310T070000
END:DAYLIGHT
BEGIN:STANDARD
TZOFFSETFROM:-0400
TZOFFSETTO:-0500
TZNAME:EST
DTSTART:20241103T060000
END:STANDARD
BEGIN:DAYLIGHT
TZOFFSETFROM:-0500
TZOFFSETTO:-0400
TZNAME:EDT
DTSTART:20250309T070000
END:DAYLIGHT
BEGIN:STANDARD
TZOFFSETFROM:-0400
TZOFFSETTO:-0500
TZNAME:EST
DTSTART:20251102T060000
END:STANDARD
BEGIN:DAYLIGHT
TZOFFSETFROM:-0500
TZOFFSETTO:-0400
TZNAME:EDT
DTSTART:20260308T070000
END:DAYLIGHT
BEGIN:STANDARD
TZOFFSETFROM:-0400
TZOFFSETTO:-0500
TZNAME:EST
DTSTART:20261101T060000
END:STANDARD
END:VTIMEZONE
BEGIN:VEVENT
DTSTART;TZID=America/Toronto:20250614T100000
DTEND;TZID=America/Toronto:20250614T160000
DTSTAMP:20260422T124143
CREATED:20250605T172602Z
LAST-MODIFIED:20250605T173158Z
UID:211916-1749895200-1749916800@grcc.net
SUMMARY:Cardiac Clinic June 14 2025 - Quebec
DESCRIPTION:Cardiac Clinic being held at the same time and location as the GRCC National. Clinic hosted by the Great Dane Club of Quebec. The cardiologist is Dr Amelie Beaumier DACVIM.\n$135 – auscultation\n$400 – echo
URL:https://grcc.net/event/cardiac-clinic-june-14-2025-quebec/
LOCATION:Brome Fair\, 345 Chemin Stagecoach\, Brome\, Quebec\, J0E 1K0\, Canada
CATEGORIES:Health Clinic
ATTACH;FMTTYPE=image/jpeg:https://grcc.net/wp-content/uploads/2015/06/logotop.jpg
ORGANIZER;CN="Great Dane Club of Quebec":MAILTO:cgdquebec@outlook.com
END:VEVENT
END:VCALENDAR