BEGIN:VCALENDAR
VERSION:2.0
PRODID:-//Golden Retriever Club of Canada - ECPv6.15.20//NONSGML v1.0//EN
CALSCALE:GREGORIAN
METHOD:PUBLISH
X-ORIGINAL-URL:https://grcc.net
X-WR-CALDESC:Events for Golden Retriever Club of Canada
REFRESH-INTERVAL;VALUE=DURATION:PT1H
X-Robots-Tag:noindex
X-PUBLISHED-TTL:PT1H
BEGIN:VTIMEZONE
TZID:America/Toronto
BEGIN:DAYLIGHT
TZOFFSETFROM:-0500
TZOFFSETTO:-0400
TZNAME:EDT
DTSTART:20230312T070000
END:DAYLIGHT
BEGIN:STANDARD
TZOFFSETFROM:-0400
TZOFFSETTO:-0500
TZNAME:EST
DTSTART:20231105T060000
END:STANDARD
BEGIN:DAYLIGHT
TZOFFSETFROM:-0500
TZOFFSETTO:-0400
TZNAME:EDT
DTSTART:20240310T070000
END:DAYLIGHT
BEGIN:STANDARD
TZOFFSETFROM:-0400
TZOFFSETTO:-0500
TZNAME:EST
DTSTART:20241103T060000
END:STANDARD
BEGIN:DAYLIGHT
TZOFFSETFROM:-0500
TZOFFSETTO:-0400
TZNAME:EDT
DTSTART:20250309T070000
END:DAYLIGHT
BEGIN:STANDARD
TZOFFSETFROM:-0400
TZOFFSETTO:-0500
TZNAME:EST
DTSTART:20251102T060000
END:STANDARD
END:VTIMEZONE
BEGIN:VEVENT
DTSTART;VALUE=DATE:20241102
DTEND;VALUE=DATE:20241104
DTSTAMP:20260423T005529
CREATED:20240425T170959Z
LAST-MODIFIED:20240425T170959Z
UID:211017-1730505600-1730678399@grcc.net
SUMMARY:Ottawa Valley Golden Retriever Club - 2 Obedience Trials
DESCRIPTION:Judge: Lionel Whittaker (Alberta\, Canada) \nShow Secretary:\nDiana Edwards Show Services\n1562 Route 203\nHowick\, QC J0S 1G0\nPhone: 450-825-2824\nFax: 450-825-0894\nEmail: diana@dess.ca\nWebsite: http://www.dess.ca/
URL:https://grcc.net/event/ottawa-valley-golden-retriever-club-2-obedience-trials/
LOCATION:The Training Hall\, 3765 Loggers Way\, Kinburn\, Ontario\, K0A 2H0\, Canada
CATEGORIES:Obedience
END:VEVENT
END:VCALENDAR