BEGIN:VCALENDAR
VERSION:2.0
PRODID:-//Golden Retriever Club of Canada - ECPv6.15.20//NONSGML v1.0//EN
CALSCALE:GREGORIAN
METHOD:PUBLISH
X-WR-CALNAME:Golden Retriever Club of Canada
X-ORIGINAL-URL:https://grcc.net
X-WR-CALDESC:Events for Golden Retriever Club of Canada
REFRESH-INTERVAL;VALUE=DURATION:PT1H
X-Robots-Tag:noindex
X-PUBLISHED-TTL:PT1H
BEGIN:VTIMEZONE
TZID:America/Toronto
BEGIN:DAYLIGHT
TZOFFSETFROM:-0500
TZOFFSETTO:-0400
TZNAME:EDT
DTSTART:20210314T070000
END:DAYLIGHT
BEGIN:STANDARD
TZOFFSETFROM:-0400
TZOFFSETTO:-0500
TZNAME:EST
DTSTART:20211107T060000
END:STANDARD
BEGIN:DAYLIGHT
TZOFFSETFROM:-0500
TZOFFSETTO:-0400
TZNAME:EDT
DTSTART:20220313T070000
END:DAYLIGHT
BEGIN:STANDARD
TZOFFSETFROM:-0400
TZOFFSETTO:-0500
TZNAME:EST
DTSTART:20221106T060000
END:STANDARD
BEGIN:DAYLIGHT
TZOFFSETFROM:-0500
TZOFFSETTO:-0400
TZNAME:EDT
DTSTART:20230312T070000
END:DAYLIGHT
BEGIN:STANDARD
TZOFFSETFROM:-0400
TZOFFSETTO:-0500
TZNAME:EST
DTSTART:20231105T060000
END:STANDARD
BEGIN:DAYLIGHT
TZOFFSETFROM:-0500
TZOFFSETTO:-0400
TZNAME:EDT
DTSTART:20240310T070000
END:DAYLIGHT
BEGIN:STANDARD
TZOFFSETFROM:-0400
TZOFFSETTO:-0500
TZNAME:EST
DTSTART:20241103T060000
END:STANDARD
END:VTIMEZONE
BEGIN:VEVENT
DTSTART;TZID=America/Toronto:20230506T090000
DTEND;TZID=America/Toronto:20230507T170000
DTSTAMP:20260420T212107
CREATED:20230227T144859Z
LAST-MODIFIED:20230304T174057Z
UID:4433-1683363600-1683478800@grcc.net
SUMMARY:Golden Retriever Club of British Columbia All Breed Eye & Heart Clinic
DESCRIPTION:All Breed Eye & Heart Clinic \nPlease email Christine for cost and appointment information.
URL:https://grcc.net/event/golden-retriever-club-of-british-columbia-all-breed-eye-heart-clinic/
LOCATION:Animal Emergency Clinic of the Fraser Valley\, 6325 204 St #302\, Langley\, British Columbia\, V2Y 3B3\, Canada
CATEGORIES:Health Clinic
ORGANIZER;CN="Christine Kobler":MAILTO:redgold@shaw.ca
END:VEVENT
BEGIN:VEVENT
DTSTART;VALUE=DATE:20230429
DTEND;VALUE=DATE:20230430
DTSTAMP:20260420T212107
CREATED:20230312T183849Z
LAST-MODIFIED:20230312T183849Z
UID:4798-1682726400-1682812799@grcc.net
SUMMARY:All Breed CAER Eye Clinic - Pembroke\, Ontario
DESCRIPTION:Eye Clinic with Dr Bernhard Spiess \nPre-registration is required  \nFor appointments\, please email Connie ambertru@bell.net 
URL:https://grcc.net/event/all-breed-caer-eye-clinic-pembroke-ontario/
LOCATION:Rankin Recreation & Community Center\, 200 Rankin Rink Rd\, Pembroke\, Ontario\, K8A 6W4\, Canada
ORGANIZER;CN="Connie Johnson":MAILTO:ambertru@bell.net
END:VEVENT
BEGIN:VEVENT
DTSTART;VALUE=DATE:20230415
DTEND;VALUE=DATE:20230416
DTSTAMP:20260420T212107
CREATED:20230307T033614Z
LAST-MODIFIED:20230307T034327Z
UID:4589-1681516800-1681603199@grcc.net
SUMMARY:Clinique des Yeux & Rage/Eye & Rabies Clinic
DESCRIPTION:The Chateauguay Valley Kennel Club\nLe CVKC tiendra sa prochaine clinique des Yeux & Rage le 15 Avril\, 2023\, à la Clinique vétérinaire Deborah Nash\, 274 Chemin Larocque\, Salaberry de Valleyfield\, J6T 4B9 .\nDr. Michel Carrier fera l’examen OFA pour les yeux. Le coût est de 40.00$ Taxe inclus par chien.\nDr. Deborah Nash fera le vaccin contre la rage d’une durée de trois (3) ans si votre animal a été vacciné auparavant\, ou le vaccin d’un (1) an contre la rage sera offert si c’est la première fois que votre animal se fait vacciné\nAussi\, examen du sang pour vers du cœur et Lyme.\nVeuillez s’il vous plaît payer le CVKC directement\, soit par argent comptant ou par chèque\, désolé nous n’acceptons pas les paiements par interac ou cartes de crédit.\nDes services additionnels pourraient être disponibles sur demande.\nDu café et des beignes gratuits seront fournis.\nPour prendre un rendez-vous ou si vous avez des questions\, veuillez contacter Barb Collins soit par courrier électronique au cvkceyes@gmail.com ou par téléphone au 450-829-3323. \n\nThe CVKC will be holding its next Eye & Rabies Clinic on April 15\, 2023 at the Clinique Vétérinaire Deborah Nash\, 274 Chemin Larocque\, Salaberry de Valleyfield\, J6T 4B9.\nDr Michel Carrier will be doing the OFA eye exam. Cost $40.00 tax included per dog.\nDr Deborah Nash will be doing the 3 year rabies shot if your animal has been vaccinated before\, or 1 year if it is for the first time. Also\, blood test for Heartworm\, Lyme\, and other tick borne diseases.\nPlease pay by cash or cheque only\, sorry no Interact or credit cards accepted.\nOther services may be available upon request.\nFree coffee and donuts provided.\nFor an appointment or questions contact Barb Collins at cvkceyes@gmail.com or phone 450-829-3323.
URL:https://grcc.net/event/clinique-des-yeux-rage-eye-rabies-clinic/
LOCATION:Clinique Vétérinaire Deborah Nash\, 274 Chemin Larocque\, Salaberry de Valleyfield\, Quebec\, J6T 4B9\, Canada
CATEGORIES:Health Clinic
ORGANIZER;CN="Barb Collins":MAILTO:cvkceyes@gmail.com
END:VEVENT
BEGIN:VEVENT
DTSTART;TZID=America/Toronto:20230405T180000
DTEND;TZID=America/Toronto:20230405T180000
DTSTAMP:20260420T212107
CREATED:20230221T200709Z
LAST-MODIFIED:20230304T174107Z
UID:4397-1680717600-1680717600@grcc.net
SUMMARY:Kinder Kennels Handling Classes
DESCRIPTION:One hour sessions every Wednesday for 10 weeks running from April 5th\, 2023 to June 7th\, 2023. Classes start at 6pm sharp. \nYou can switch dogs as you wish. Our instructor is All Breed Judge & retired Professional Handler Bob Robotham. \nClasses will be indoors until weather is warm enough and then outdoor sessions will begin.
URL:https://grcc.net/event/kinder-kennels-handling-classes/
LOCATION:Kinder Kennels\, 2262 Victoria Road\, Carrying Place\, Ontario\, K0K 1L0\, Canada
CATEGORIES:Handling Classes
ORGANIZER;CN="Kinder Kennels":MAILTO:kinderkennels@hotmail.ca
END:VEVENT
BEGIN:VEVENT
DTSTART;TZID=America/Toronto:20230318T080000
DTEND;TZID=America/Toronto:20230319T170000
DTSTAMP:20260420T212107
CREATED:20230222T011945Z
LAST-MODIFIED:20230304T174122Z
UID:4406-1679126400-1679245200@grcc.net
SUMMARY:Golden Retriever Club of British Columbia All Breed Obedience & Rally Trials and CGN
DESCRIPTION:Golden Retriever Club of British Columbia\n4 All Breed Obedience Trials & 4 All Breed Rally TrialS\nEntries close March 8\nDay of Entries permitted pending class openings. \nShow Secretary: BC Dog Show Services\nVisit www.bcdogshowservicesltd.ca for premium list and online entries
URL:https://grcc.net/event/grcbc-all-breed-obedience-rally-trials-and-cgn/
LOCATION:Abbotsford Exhibition Fairgrounds\, 32470 Haida Drive\, Abbotsford\, BC\, V2T 5A6\, Canada
CATEGORIES:Obedience
END:VEVENT
BEGIN:VEVENT
DTSTART;VALUE=DATE:20220924
DTEND;VALUE=DATE:20220925
DTSTAMP:20260420T212107
CREATED:20220816T215745Z
LAST-MODIFIED:20230304T174134Z
UID:3750-1663977600-1664063999@grcc.net
SUMMARY:Maritime Golden Retriever Club WC/WCI/WCX
DESCRIPTION:2 Working Certificate Tests \nSpectators Welcome!
URL:https://grcc.net/event/maritime-golden-retriever-club-wc/
LOCATION:Aqua Terra Kennels\, 50 Ridge Rd\, Upper Stewiacke\, Nova Scotia\, B0N 2P0\, Canada
CATEGORIES:Field
END:VEVENT
BEGIN:VEVENT
DTSTART;VALUE=DATE:20220902
DTEND;VALUE=DATE:20220903
DTSTAMP:20260420T212107
CREATED:20220815T020759Z
LAST-MODIFIED:20230304T174152Z
UID:3689-1662076800-1662163199@grcc.net
SUMMARY:Maritime Golden Retriever Club
DESCRIPTION:Conformation\, Obedience & Rally Obedience \n  \nAdditional details & entry forms can be found by clicking here
URL:https://grcc.net/event/maritime-golden-retriever-club/
LOCATION:East Hants Sportsplex\, 1076 Hwy 2\, Lantz\, Nova Scotia\, B2S 1M8\, Canada
CATEGORIES:Regional Club Specialty
END:VEVENT
END:VCALENDAR