BEGIN:VCALENDAR
VERSION:2.0
PRODID:-//Golden Retriever Club of Canada - ECPv6.15.20//NONSGML v1.0//EN
CALSCALE:GREGORIAN
METHOD:PUBLISH
X-ORIGINAL-URL:https://grcc.net
X-WR-CALDESC:Events for Golden Retriever Club of Canada
REFRESH-INTERVAL;VALUE=DURATION:PT1H
X-Robots-Tag:noindex
X-PUBLISHED-TTL:PT1H
BEGIN:VTIMEZONE
TZID:America/Toronto
BEGIN:DAYLIGHT
TZOFFSETFROM:-0500
TZOFFSETTO:-0400
TZNAME:EDT
DTSTART:20250309T070000
END:DAYLIGHT
BEGIN:STANDARD
TZOFFSETFROM:-0400
TZOFFSETTO:-0500
TZNAME:EST
DTSTART:20251102T060000
END:STANDARD
BEGIN:DAYLIGHT
TZOFFSETFROM:-0500
TZOFFSETTO:-0400
TZNAME:EDT
DTSTART:20260308T070000
END:DAYLIGHT
BEGIN:STANDARD
TZOFFSETFROM:-0400
TZOFFSETTO:-0500
TZNAME:EST
DTSTART:20261101T060000
END:STANDARD
BEGIN:DAYLIGHT
TZOFFSETFROM:-0500
TZOFFSETTO:-0400
TZNAME:EDT
DTSTART:20270314T070000
END:DAYLIGHT
BEGIN:STANDARD
TZOFFSETFROM:-0400
TZOFFSETTO:-0500
TZNAME:EST
DTSTART:20271107T060000
END:STANDARD
END:VTIMEZONE
BEGIN:VEVENT
DTSTART;VALUE=DATE:20260606
DTEND;VALUE=DATE:20260607
DTSTAMP:20260419T234945
CREATED:20260305T182308Z
LAST-MODIFIED:20260305T183455Z
UID:212603-1780704000-1780790399@grcc.net
SUMMARY:Golden Retriever Club of Greater Toronto Specialty
DESCRIPTION:The Golden Retriever Club of Greater Toronto will host a Specialty Show for Golden Retrievers on June 6\, 2026 at the Caledonia Fairgrounds in Caledonia\, Ontario. This is an outdoor event. \nThis specialty will be held in conjunction with the Erie Shores Kennel Club shows\, taking place June 5–8\, 2026 at the same venue. \nThe Erie Shores Kennel Club cluster features: \n\n4 All Breed Shows\nLimited Breed Shows for Groups 1\, 3\, 6\, and 7\n6 Obedience Trials\n6 Rally Obedience Trials\n\nA GRCC Regional Specialty will also be held June 7\, 2026 at the same location. – Click here for information \nJudges\nJune 6\, 2026 – GRCT Specialty\nConformation – Kerin Hutchings (South Australia\, Australia) \nJune 7\, 2026 – GRCC Regional Specialty\nConformation – Frederik Kien Saunders (Hovedstaden\, Denmark) \nJune 5-8\, 2026 – Erie Shores Kennel Club\nJudges to be announced
URL:https://grcc.net/event/grcgt2006/
LOCATION:Caledonia Fairgrounds\, 151 Caithness Street East\, Caledonia\, Ontario\, N3W 1C2\, Canada
CATEGORIES:Regional Club Specialty
END:VEVENT
BEGIN:VEVENT
DTSTART;VALUE=DATE:20260607
DTEND;VALUE=DATE:20260608
DTSTAMP:20260419T234945
CREATED:20260305T183028Z
LAST-MODIFIED:20260305T183533Z
UID:212608-1780790400-1780876799@grcc.net
SUMMARY:Golden Retriever Club of Canada Regional Specialty (Ontario)
DESCRIPTION:The Golden Retriever Club of Greater Toronto will host a Golden Retriever Club of Canada (GRCC) Regional Specialty for Golden Retrievers on June 7\, 2026 at the Caledonia Fairgrounds in Caledonia\, Ontario. This is an outdoor event. \nThis specialty will be held in conjunction with the Erie Shores Kennel Club shows\, taking place June 5–8\, 2026 at the same venue. \nThe Erie Shores Kennel Club cluster features: \n\n4 All Breed Shows\nLimited Breed Shows for Groups 1\, 3\, 6\, and 7\n6 Obedience Trials\n6 Rally Obedience Trials\n\nA GRCGT Regional Specialty will also be held June 6\, 2026 at the same location. – Click here for information \nJudges\nJune 6\, 2026 – GRCT Specialty\nConformation – Kerin Hutchings (South Australia\, Australia) \nJune 7\, 2026 – GRCC Regional Specialty\nConformation – Frederik Kien Saunders (Hovedstaden\, Denmark) \nJune 5-8\, 2026 – Erie Shores Kennel Club\nJudges to be announced
URL:https://grcc.net/event/grccont2026/
LOCATION:Caledonia Fairgrounds\, 151 Caithness Street East\, Caledonia\, Ontario\, N3W 1C2\, Canada
CATEGORIES:Conformation,GRCC Regional Specialty
END:VEVENT
BEGIN:VEVENT
DTSTART;VALUE=DATE:20260627
DTEND;VALUE=DATE:20260629
DTSTAMP:20260419T234945
CREATED:20260203T180134Z
LAST-MODIFIED:20260203T181117Z
UID:212534-1782518400-1782691199@grcc.net
SUMMARY:Atlantic Shores Obedience & Rally Trials | June 27–28\, 2026
DESCRIPTION:Join us for a full weekend of performance events featuring two All-Breed Obedience Trials on Saturday\, June 27\, 2026\, followed by two Rally Trials on Sunday\, June 28\, 2026. \nJudge: Obedience and Rally Obedience – Marie Sawford (Ontario\, Canada)
URL:https://grcc.net/event/atlanticshores-obedrally/
LOCATION:Stay N Play Canine Center\, 214 Crossley Ave\, Truro\, Nova Scotia\, B2N 7H7\, Canada
CATEGORIES:Obedience,Rally
ORGANIZER;CN="Golden Retriever Club of Canada - Atlantic Shores Branch":MAILTO:goldnz@eastlink.ca
END:VEVENT
BEGIN:VEVENT
DTSTART;TZID=America/Toronto:20260721T080000
DTEND;TZID=America/Toronto:20260721T170000
DTSTAMP:20260419T234945
CREATED:20260407T165527Z
LAST-MODIFIED:20260407T170006Z
UID:212662-1784620800-1784653200@grcc.net
SUMMARY:WC Test - Langton\, Ont.
DESCRIPTION:Golden Retriever Club of Greater Toronto – WC Test\nDate: July 21\, 2026\nLocation: Wardle Property\, 934 4th Concession Rd Enr\, Langton\, Ontario N0E 1G0\n  \nEvent Type: Working Certificate (WC / WCI / WCX)\n  \nJudges:\nSandie Bond (ON)\nDavid Wardle (ON)\n  \nCombined limited entry of 15 dogs.\n  \nSecretary:\nShelly Blom\n1630 First Concession STR\, RR#3\nDelhi\, ON N4B 2W6\nPhone: 519-589-6680\nEmail: sterregoldens@icloud.com
URL:https://grcc.net/event/wc-test-langton-ont/
LOCATION:Wardle Propert\, 934 4th Concession Rd Enr\, Langton\, Ontario\, N0E 1G0\, Canada
CATEGORIES:Field
END:VEVENT
BEGIN:VEVENT
DTSTART;VALUE=DATE:20260815
DTEND;VALUE=DATE:20260816
DTSTAMP:20260419T234945
CREATED:20250826T175646Z
LAST-MODIFIED:20260203T180653Z
UID:212002-1786752000-1786838399@grcc.net
SUMMARY:Golden Retriever Club of Canada National Specialty
DESCRIPTION:Tentative Schedule:\nWednesday August 12\, 2026 – WC/WCI/WCX\nThursday August 13\, 2026 – Golden Retriever Rally & Obedience Trials\nThursday August 13\, 2026 – Golden Retriever Club of Manitoba Welcome Dinner\nFriday August 14\, 2026 – Golden Retriever Club of Manitoba Specialty\nSaturday August 15\, 2025 – Golden Retriever Club of Canada National Specialty\nSaturday August 15\, 2025 – Parade of Title Holders\nSaturday August 15\, 2025 – Parade of Veterans\nSaturday August 15\, 2025 – GRCC Awards Dinner\nSunday August 16\, 2025 – Manitoba Sporting Dog Association Specialty \nThe above schedule is tentative\, please visit https://www.grccnational.com for the latest up-to-date information.
URL:https://grcc.net/event/golden-retriever-club-of-canada-national-specialty/
LOCATION:East St Paul Community Center\, 266 Hoddinott Rd\, East Saint Paul\, MB\, R2E 0H7\, Canada
CATEGORIES:National Specialty,Obedience,Rally,Regional Club Specialty
END:VEVENT
BEGIN:VEVENT
DTSTART;TZID=America/Toronto:20260912T080000
DTEND;TZID=America/Toronto:20260913T170000
DTSTAMP:20260419T234945
CREATED:20260407T164008Z
LAST-MODIFIED:20260407T164510Z
UID:212654-1789200000-1789318800@grcc.net
SUMMARY:Retriever Hunt Tests - Mono\, Ont.
DESCRIPTION:Golden Retriever Club of Greater Toronto – Hunt Test\nDate: September 12–13\, 2026\nLocation: Kyon Kennels\, 715513 1st Line EHS\, Mono\, Ontario\n \nEvent Type: CKC Hunt Test for Retrievers (JH\, SH\, MH)\n \nJudges:\nShelly Blom (ON)\nKatherine Kirkpatrick (ON)\nAndy Mikolaiczyk (ON)\n \nSecretary:\nCal Wilson\n1630 1st Concession Rd STR\nDelhi\, ON N4B 2W6\nEmail: calmcw118@gmail.com
URL:https://grcc.net/event/retriever-hunt-tests-mono-ont/
LOCATION:Kyon Kennels\, 715513 1st Line EHS\, Mono\, Ontario\, L9V 1A9\, Canada
CATEGORIES:Field
END:VEVENT
END:VCALENDAR