BEGIN:VCALENDAR
VERSION:2.0
PRODID:-//Golden Retriever Club of Canada - ECPv6.15.20//NONSGML v1.0//EN
CALSCALE:GREGORIAN
METHOD:PUBLISH
X-WR-CALNAME:Golden Retriever Club of Canada
X-ORIGINAL-URL:https://grcc.net
X-WR-CALDESC:Events for Golden Retriever Club of Canada
REFRESH-INTERVAL;VALUE=DURATION:PT1H
X-Robots-Tag:noindex
X-PUBLISHED-TTL:PT1H
BEGIN:VTIMEZONE
TZID:America/Toronto
BEGIN:DAYLIGHT
TZOFFSETFROM:-0500
TZOFFSETTO:-0400
TZNAME:EDT
DTSTART:20220313T070000
END:DAYLIGHT
BEGIN:STANDARD
TZOFFSETFROM:-0400
TZOFFSETTO:-0500
TZNAME:EST
DTSTART:20221106T060000
END:STANDARD
BEGIN:DAYLIGHT
TZOFFSETFROM:-0500
TZOFFSETTO:-0400
TZNAME:EDT
DTSTART:20230312T070000
END:DAYLIGHT
BEGIN:STANDARD
TZOFFSETFROM:-0400
TZOFFSETTO:-0500
TZNAME:EST
DTSTART:20231105T060000
END:STANDARD
BEGIN:DAYLIGHT
TZOFFSETFROM:-0500
TZOFFSETTO:-0400
TZNAME:EDT
DTSTART:20240310T070000
END:DAYLIGHT
BEGIN:STANDARD
TZOFFSETFROM:-0400
TZOFFSETTO:-0500
TZNAME:EST
DTSTART:20241103T060000
END:STANDARD
END:VTIMEZONE
BEGIN:VEVENT
DTSTART;VALUE=DATE:20230625
DTEND;VALUE=DATE:20230626
DTSTAMP:20260422T055329
CREATED:20230304T173512Z
LAST-MODIFIED:20230304T173803Z
UID:4519-1687651200-1687737599@grcc.net
SUMMARY:Golden Retriever Club of Canada Regional
DESCRIPTION:GRCC Regional Specialty Show for Golden Retrievers \nAlso: \n\nClub du Golden Retriever du Quebec Specialty\nAssociation Canine de la Mauricie – 3 All Breed Shows\n\n 
URL:https://grcc.net/event/golden-retriever-club-of-canada-regional/
LOCATION:Arena de Sainte-Anne-de-la-Perade\, 161 Gamelin\, Sainte-Anne-de-la-Perade\, Quebec\, G0X 2J0\, Canada
CATEGORIES:Conformation,GRCC Regional Specialty
END:VEVENT
END:VCALENDAR