BEGIN:VCALENDAR
VERSION:2.0
PRODID:-//Golden Retriever Club of Canada - ECPv6.15.20//NONSGML v1.0//EN
CALSCALE:GREGORIAN
METHOD:PUBLISH
X-ORIGINAL-URL:https://grcc.net
X-WR-CALDESC:Events for Golden Retriever Club of Canada
REFRESH-INTERVAL;VALUE=DURATION:PT1H
X-Robots-Tag:noindex
X-PUBLISHED-TTL:PT1H
BEGIN:VTIMEZONE
TZID:America/Toronto
BEGIN:DAYLIGHT
TZOFFSETFROM:-0500
TZOFFSETTO:-0400
TZNAME:EDT
DTSTART:20220313T070000
END:DAYLIGHT
BEGIN:STANDARD
TZOFFSETFROM:-0400
TZOFFSETTO:-0500
TZNAME:EST
DTSTART:20221106T060000
END:STANDARD
BEGIN:DAYLIGHT
TZOFFSETFROM:-0500
TZOFFSETTO:-0400
TZNAME:EDT
DTSTART:20230312T070000
END:DAYLIGHT
BEGIN:STANDARD
TZOFFSETFROM:-0400
TZOFFSETTO:-0500
TZNAME:EST
DTSTART:20231105T060000
END:STANDARD
BEGIN:DAYLIGHT
TZOFFSETFROM:-0500
TZOFFSETTO:-0400
TZNAME:EDT
DTSTART:20240310T070000
END:DAYLIGHT
BEGIN:STANDARD
TZOFFSETFROM:-0400
TZOFFSETTO:-0500
TZNAME:EST
DTSTART:20241103T060000
END:STANDARD
END:VTIMEZONE
BEGIN:VEVENT
DTSTART;TZID=America/Toronto:20230617T080000
DTEND;TZID=America/Toronto:20230618T170000
DTSTAMP:20260425T001552
CREATED:20230304T175652Z
LAST-MODIFIED:20230304T175652Z
UID:4527-1686988800-1687107600@grcc.net
SUMMARY:Golden Retriever Club of British Columbia Hunt Test
DESCRIPTION:CKC Retriever Hunt Tests – 2 JH / 2 SH / 2 MH \nJudging Panel \n\nHunt Test – David Barclay (British Columbia\, Canada)\nHunt Test – Susan Endersby (British Columbia\, Canada)\nHunt Test – Tracey Griffin (British Columbia\, Canada)\nHunt Test – Susan Highton (British Columbia\, Canada)\nHunt Test – Chuck Hilton (Washington\, USA)\nHunt Test – Sharon Hilton (Washington\, USA)\nHunt Test – Lynn Noftle (British Columbia\, Canada)\nHunt Test – Lisa Short (British Columbia\, Canada)
URL:https://grcc.net/event/golden-retriever-club-of-british-columbia-hunt-test/
LOCATION:Abbotsford\, BC\, Abbotsford\, British Columbia\, Canada
CATEGORIES:Field
END:VEVENT
END:VCALENDAR